BEGIN:VCALENDAR
VERSION:2.0
PRODID:-//Six Maritime - ECPv6.15.20//NONSGML v1.0//EN
CALSCALE:GREGORIAN
METHOD:PUBLISH
X-ORIGINAL-URL:https://sixmaritime.com
X-WR-CALDESC:Events for Six Maritime
REFRESH-INTERVAL;VALUE=DURATION:PT1H
X-Robots-Tag:noindex
X-PUBLISHED-TTL:PT1H
BEGIN:VTIMEZONE
TZID:America/Los_Angeles
BEGIN:DAYLIGHT
TZOFFSETFROM:-0800
TZOFFSETTO:-0700
TZNAME:PDT
DTSTART:20250309T100000
END:DAYLIGHT
BEGIN:STANDARD
TZOFFSETFROM:-0700
TZOFFSETTO:-0800
TZNAME:PST
DTSTART:20251102T090000
END:STANDARD
BEGIN:DAYLIGHT
TZOFFSETFROM:-0800
TZOFFSETTO:-0700
TZNAME:PDT
DTSTART:20260308T100000
END:DAYLIGHT
BEGIN:STANDARD
TZOFFSETFROM:-0700
TZOFFSETTO:-0800
TZNAME:PST
DTSTART:20261101T090000
END:STANDARD
BEGIN:DAYLIGHT
TZOFFSETFROM:-0800
TZOFFSETTO:-0700
TZNAME:PDT
DTSTART:20270314T100000
END:DAYLIGHT
BEGIN:STANDARD
TZOFFSETFROM:-0700
TZOFFSETTO:-0800
TZNAME:PST
DTSTART:20271107T090000
END:STANDARD
END:VTIMEZONE
BEGIN:VEVENT
DTSTART;TZID=America/Los_Angeles:20260421T090000
DTEND;TZID=America/Los_Angeles:20260421T170000
DTSTAMP:20260424T080158
CREATED:20260216T034240Z
LAST-MODIFIED:20260216T034242Z
UID:5964-1776762000-1776790800@sixmaritime.com
SUMMARY:CA BSIS: Guard Card Registration
DESCRIPTION:CA BSIS: Exposed Firearms Permit Registration\n\n\n\n\n\n\n\nBuy Tickets\n\n\n\n\n\n\n\n\n\n\n\n\n\n\nThis 8 hour\, in person\, BSIS Appropriate Use of Force course/BSIS powers to arrest will introduce\, instruct\, and familiarize individuals on the appropriate use of force topics listed in section 7583.7 of the Business and Professions Code. Includes State Forms\, Test\, and Certificate of Completion. This course does NOT cover the required livescan/fingerprinting\, application processing assistance\, or any state fees. \n\n\n\nThis counts as your BSIS approved\, in person\, appropriate use of force class – PART B \n\n\n\n\n\n\n\n\nBuy Tickets
URL:https://sixmaritime.com/course/ca-bsis-guard-card-registration-4/
LOCATION:San Diego\, California\, 1712 Logan Ave\, San Diego\, CA\, 92113\, United States
END:VEVENT
BEGIN:VEVENT
DTSTART;TZID=America/Los_Angeles:20260422T090000
DTEND;TZID=America/Los_Angeles:20260422T170000
DTSTAMP:20260424T080158
CREATED:20260216T034604Z
LAST-MODIFIED:20260216T034607Z
UID:5966-1776848400-1776877200@sixmaritime.com
SUMMARY:CA BSIS: Guard Card Registration
DESCRIPTION:CA BSIS: Exposed Firearms Permit Registration\n\n\n\n\n\n\n\nBuy Tickets\n\n\n\n\n\n\n\n\n\n\n\n\n\n\nThis 8 hour\, in person\, BSIS Appropriate Use of Force course/BSIS powers to arrest will introduce\, instruct\, and familiarize individuals on the appropriate use of force topics listed in section 7583.7 of the Business and Professions Code. Includes State Forms\, Test\, and Certificate of Completion. This course does NOT cover the required livescan/fingerprinting\, application processing assistance\, or any state fees. \n\n\n\nThis counts as your BSIS approved\, in person\, appropriate use of force class – PART B \n\n\n\n\n\n\n\n\nBuy Tickets
URL:https://sixmaritime.com/course/ca-bsis-guard-card-registration-5/
LOCATION:San Diego\, California\, 1712 Logan Ave\, San Diego\, CA\, 92113\, United States
END:VEVENT
BEGIN:VEVENT
DTSTART;TZID=America/Los_Angeles:20260505T090000
DTEND;TZID=America/Los_Angeles:20260505T170000
DTSTAMP:20260424T080158
CREATED:20260410T031159Z
LAST-MODIFIED:20260410T032008Z
UID:6082-1777971600-1778000400@sixmaritime.com
SUMMARY:CA BSIS: Guard Card Registration
DESCRIPTION:CA BSIS: Exposed Firearms Permit Registration\n\n\n\n\n\n\n\nBuy Tickets\n\n\n\n\n\n\n\n\n\n\n\n\n\n\nThis 8 hour\, in person\, BSIS Appropriate Use of Force course/BSIS powers to arrest will introduce\, instruct\, and familiarize individuals on the appropriate use of force topics listed in section 7583.7 of the Business and Professions Code. Includes State Forms\, Test\, and Certificate of Completion. This course does NOT cover the required livescan/fingerprinting\, application processing assistance\, or any state fees. \n\n\n\nThis counts as your BSIS approved\, in person\, appropriate use of force class – PART B \n\n\n\n\n\n\n\n\nBuy Tickets
URL:https://sixmaritime.com/course/ca-bsis-guard-card-registration/
LOCATION:San Diego\, California\, 1712 Logan Ave\, San Diego\, CA\, 92113\, United States
END:VEVENT
BEGIN:VEVENT
DTSTART;TZID=America/Los_Angeles:20260506T090000
DTEND;TZID=America/Los_Angeles:20260507T170000
DTSTAMP:20260424T080158
CREATED:20260412T222555Z
LAST-MODIFIED:20260412T222757Z
UID:6094-1778058000-1778173200@sixmaritime.com
SUMMARY:CA BSIS: Exposed FiCA BSIS: Exposed Firearms Permit Registrationrearms Permit Registration
DESCRIPTION:CA BSIS: Exposed Firearms Permit Registration\n\n\n\n\n\n\n\nBuy Tickets\n\n\n\n\n\n\n\n\n\n\n\n\n\n\nYOU MUST HAVE ALL PREREQUISITES COMPLETED BEFORE ATTENDING THE FIREARMS RANGE. THEY CAN BE FOUND HERE  \n\n\n\nYOU MUST HAVE A CURRENT GUARD CARD TO ATTEND THIS COURSE. \n\n\n\nThis 16 hour course covers firearms training and qualifications necessary to obtain an exposed firearms permit in the state of California. \n\n\n\nLive Fire Portion of the class will be held at 0800\, at South Bay Rod and Gun Club. \n\n\n\nThis class does NOT include State fee\, gun rental\, or ammunition cost. \n\n\n\nLocation: 1712 Logan Ave\, San Diego\, CA\, 92113.Parking is limited\, please arrive early to find street parking \n\n\n\n\n\n\n\n\nBuy Tickets
URL:https://sixmaritime.com/course/ca-bsis-exposed-fica-bsis-exposed-firearms-permit-registrationrearms-permit-registration/
LOCATION:San Diego\, California\, 1712 Logan Ave\, San Diego\, CA\, 92113\, United States
END:VEVENT
BEGIN:VEVENT
DTSTART;TZID=America/Los_Angeles:20260519T090000
DTEND;TZID=America/Los_Angeles:20260519T170000
DTSTAMP:20260424T080158
CREATED:20260410T031909Z
LAST-MODIFIED:20260410T031910Z
UID:6087-1779181200-1779210000@sixmaritime.com
SUMMARY:CA BSIS: Guard Card Registration
DESCRIPTION:CA BSIS: Exposed Firearms Permit Registration\n\n\n\n\n\n\n\nBuy Tickets\n\n\n\n\n\n\n\n\n\n\n\n\n\n\nThis 8 hour\, in person\, BSIS Appropriate Use of Force course/BSIS powers to arrest will introduce\, instruct\, and familiarize individuals on the appropriate use of force topics listed in section 7583.7 of the Business and Professions Code. Includes State Forms\, Test\, and Certificate of Completion. This course does NOT cover the required livescan/fingerprinting\, application processing assistance\, or any state fees. \n\n\n\nThis counts as your BSIS approved\, in person\, appropriate use of force class – PART B \n\n\n\n\n\n\n\n\nBuy Tickets
URL:https://sixmaritime.com/course/ca-bsis-guard-card-registration-2/
LOCATION:San Diego\, California\, 1712 Logan Ave\, San Diego\, CA\, 92113\, United States
END:VEVENT
BEGIN:VEVENT
DTSTART;TZID=America/Los_Angeles:20260520T090000
DTEND;TZID=America/Los_Angeles:20260520T170000
DTSTAMP:20260424T080158
CREATED:20260410T032837Z
LAST-MODIFIED:20260410T032838Z
UID:6091-1779267600-1779296400@sixmaritime.com
SUMMARY:CA BSIS: Guard Card Registration
DESCRIPTION:CA BSIS: Exposed Firearms Permit Registration\n\n\n\n\n\n\n\nBuy Tickets\n\n\n\n\n\n\n\n\n\n\n\n\n\n\nThis 8 hour\, in person\, BSIS Appropriate Use of Force course/BSIS powers to arrest will introduce\, instruct\, and familiarize individuals on the appropriate use of force topics listed in section 7583.7 of the Business and Professions Code. Includes State Forms\, Test\, and Certificate of Completion. This course does NOT cover the required livescan/fingerprinting\, application processing assistance\, or any state fees. \n\n\n\nThis counts as your BSIS approved\, in person\, appropriate use of force class – PART B \n\n\n\n\n\n\n\n\nBuy Tickets
URL:https://sixmaritime.com/course/ca-bsis-guard-card-registration-6/
LOCATION:San Diego\, California\, 1712 Logan Ave\, San Diego\, CA\, 92113\, United States
END:VEVENT
BEGIN:VEVENT
DTSTART;TZID=America/Los_Angeles:20260609T090000
DTEND;TZID=America/Los_Angeles:20260609T170000
DTSTAMP:20260424T080158
CREATED:20260412T223157Z
LAST-MODIFIED:20260412T223310Z
UID:6163-1780995600-1781024400@sixmaritime.com
SUMMARY:CA BSIS: Guard Card Registration
DESCRIPTION:CA BSIS: Exposed Firearms Permit Registration\n\n\n\n\n\n\n\nBuy Tickets\n\n\n\n\n\n\n\n\n\n\n\n\n\n\nThis 8 hour\, in person\, BSIS Appropriate Use of Force course/BSIS powers to arrest will introduce\, instruct\, and familiarize individuals on the appropriate use of force topics listed in section 7583.7 of the Business and Professions Code. Includes State Forms\, Test\, and Certificate of Completion. \n\n\n\nThis course does NOT cover the required livescan/fingerprinting\, application processing assistance\, or any state fees. \n\n\n\nThis counts as your BSIS approved\, in person\, appropriate use of force class – PART B \n\n\n\n\n\n\n\n\nBuy Tickets
URL:https://sixmaritime.com/course/ca-bsis-guard-card-registration-7/
LOCATION:San Diego\, California\, 1712 Logan Ave\, San Diego\, CA\, 92113\, United States
END:VEVENT
BEGIN:VEVENT
DTSTART;TZID=America/Los_Angeles:20260610T090000
DTEND;TZID=America/Los_Angeles:20260611T170000
DTSTAMP:20260424T080158
CREATED:20260412T225515Z
LAST-MODIFIED:20260412T225517Z
UID:6172-1781082000-1781197200@sixmaritime.com
SUMMARY:CA BSIS: Exposed Firearms Permit Registration
DESCRIPTION:CA BSIS: Exposed Firearms Permit Registration\n\n\n\n\n\n\n\nBuy Tickets\n\n\n\n\n\n\n\n\n\n\n\n\n\n\nYOU MUST HAVE ALL PREREQUISITES COMPLETED BEFORE ATTENDING THE FIREARMS RANGE. THEY CAN BE FOUND HERE  \n\n\n\nYOU MUST HAVE A CURRENT GUARD CARD TO ATTEND THIS COURSE. \n\n\n\nThis 16 hour course covers firearms training and qualifications necessary to obtain an exposed firearms permit in the state of California. \n\n\n\nLive Fire Portion of the class will be held at 0800\, at South Bay Rod and Gun Club. \n\n\n\nThis class does NOT include State fee\, gun rental\, or ammunition cost. \n\n\n\nLocation: 1712 Logan Ave\, San Diego\, CA\, 92113. \n\n\n\nParking is limited\, please arrive early to find street parking \n\n\n\n\n\n\n\n\nBuy Tickets
URL:https://sixmaritime.com/course/ca-bsis-exposed-firearms-permit-registration/
LOCATION:San Diego\, California\, 1712 Logan Ave\, San Diego\, CA\, 92113\, United States
END:VEVENT
BEGIN:VEVENT
DTSTART;TZID=America/Los_Angeles:20260615T090000
DTEND;TZID=America/Los_Angeles:20260615T170000
DTSTAMP:20260424T080158
CREATED:20260412T224921Z
LAST-MODIFIED:20260422T202306Z
UID:6168-1781514000-1781542800@sixmaritime.com
SUMMARY:CA BSIS: Guard Card Registration
DESCRIPTION:CA BSIS: Exposed Firearms Permit Registration\n\n\n\n\n\n\n\nBuy Tickets\n\n\n\n\n\n\n\n\n\n\n\n\n\n\nThis 8 hour\, in person\, BSIS Appropriate Use of Force course/BSIS powers to arrest will introduce\, instruct\, and familiarize individuals on the appropriate use of force topics listed in section 7583.7 of the Business and Professions Code. Includes State Forms\, Test\, and Certificate of Completion.  \n\n\n\nThis course does NOT cover the required livescan/fingerprinting\, application processing assistance\, or any state fees. \n\n\n\nThis counts as your BSIS approved\, in person\, appropriate use of force class – PART B \n\n\n\n\n\n\n\n\nBuy Tickets
URL:https://sixmaritime.com/course/ca-bsis-guard-card-registration-9/
LOCATION:San Diego\, California\, 1712 Logan Ave\, San Diego\, CA\, 92113\, United States
END:VEVENT
BEGIN:VEVENT
DTSTART;TZID=America/Los_Angeles:20260616T090000
DTEND;TZID=America/Los_Angeles:20260616T170000
DTSTAMP:20260424T080158
CREATED:20260412T223600Z
LAST-MODIFIED:20260412T223605Z
UID:6166-1781600400-1781629200@sixmaritime.com
SUMMARY:CA BSIS: Guard Card Registration
DESCRIPTION:CA BSIS: Exposed Firearms Permit Registration\n\n\n\n\n\n\n\nBuy Tickets\n\n\n\n\n\n\n\n\n\n\n\n\n\n\nThis 8 hour\, in person\, BSIS Appropriate Use of Force course/BSIS powers to arrest will introduce\, instruct\, and familiarize individuals on the appropriate use of force topics listed in section 7583.7 of the Business and Professions Code. Includes State Forms\, Test\, and Certificate of Completion.  \n\n\n\nThis course does NOT cover the required livescan/fingerprinting\, application processing assistance\, or any state fees. \n\n\n\nThis counts as your BSIS approved\, in person\, appropriate use of force class – PART B \n\n\n\n\n\n\n\n\nBuy Tickets
URL:https://sixmaritime.com/course/ca-bsis-guard-card-registration-8/
LOCATION:San Diego\, California\, 1712 Logan Ave\, San Diego\, CA\, 92113\, United States
END:VEVENT
END:VCALENDAR